BEGIN:VCALENDAR
VERSION:2.0
PRODID:-//Holy Protection of the Mother of God - ECPv6.15.18//NONSGML v1.0//EN
CALSCALE:GREGORIAN
METHOD:PUBLISH
X-ORIGINAL-URL:https://protectionofthebvm.org
X-WR-CALDESC:Events for Holy Protection of the Mother of God
REFRESH-INTERVAL;VALUE=DURATION:PT1H
X-Robots-Tag:noindex
X-PUBLISHED-TTL:PT1H
BEGIN:VTIMEZONE
TZID:America/New_York
BEGIN:DAYLIGHT
TZOFFSETFROM:-0500
TZOFFSETTO:-0400
TZNAME:EDT
DTSTART:20160313T070000
END:DAYLIGHT
BEGIN:STANDARD
TZOFFSETFROM:-0400
TZOFFSETTO:-0500
TZNAME:EST
DTSTART:20161106T060000
END:STANDARD
BEGIN:DAYLIGHT
TZOFFSETFROM:-0500
TZOFFSETTO:-0400
TZNAME:EDT
DTSTART:20170312T070000
END:DAYLIGHT
BEGIN:STANDARD
TZOFFSETFROM:-0400
TZOFFSETTO:-0500
TZNAME:EST
DTSTART:20171105T060000
END:STANDARD
BEGIN:DAYLIGHT
TZOFFSETFROM:-0500
TZOFFSETTO:-0400
TZNAME:EDT
DTSTART:20180311T070000
END:DAYLIGHT
BEGIN:STANDARD
TZOFFSETFROM:-0400
TZOFFSETTO:-0500
TZNAME:EST
DTSTART:20181104T060000
END:STANDARD
END:VTIMEZONE
BEGIN:VTIMEZONE
TZID:UTC
BEGIN:STANDARD
TZOFFSETFROM:+0000
TZOFFSETTO:+0000
TZNAME:UTC
DTSTART:20150101T000000
END:STANDARD
END:VTIMEZONE
BEGIN:VEVENT
DTSTART;TZID=America/New_York:20171210T090000
DTEND;TZID=America/New_York:20171210T110000
DTSTAMP:20260417T142923
CREATED:20171001T192704Z
LAST-MODIFIED:20171001T192704Z
UID:688-1512896400-1512903600@protectionofthebvm.org
SUMMARY:Divine Liturgy at 9 AM
DESCRIPTION:Divine Liturgy will be at 9:00AM on December 10 due to a dinner in Northern Cambria.
URL:https://protectionofthebvm.org/event/divine-liturgy-at-9-am/
END:VEVENT
BEGIN:VEVENT
DTSTART;TZID=America/New_York:20171209T180000
DTEND;TZID=America/New_York:20171209T200000
DTSTAMP:20260417T142923
CREATED:20171001T192504Z
LAST-MODIFIED:20171001T192504Z
UID:685-1512842400-1512849600@protectionofthebvm.org
SUMMARY:Ukrainian Christmas Eve Dinner
DESCRIPTION:The 2nd Ukrainian Christmas Eve Dinner. \nExperience the beauty and significance of the foods\, the candles\, the songs\, and the excitement of a Holy Supper as it has been done for hundreds of years in Ukraine. \n$30.00/person Limited seating. Call for your tickets today. (814)472-9396 leave a message and we will get back to you.
URL:https://protectionofthebvm.org/event/ukrainian-christmas-eve-dinner/
END:VEVENT
BEGIN:VEVENT
DTSTART;TZID=America/New_York:20171203T110000
DTEND;TZID=America/New_York:20171203T130000
DTSTAMP:20260417T142923
CREATED:20171001T192050Z
LAST-MODIFIED:20171001T192139Z
UID:683-1512298800-1512306000@protectionofthebvm.org
SUMMARY:St. Nicholas Visit
DESCRIPTION:47th Annual Visit of St. Nicholas to the parish.
URL:https://protectionofthebvm.org/event/st-nicholas-visit-2/
END:VEVENT
BEGIN:VEVENT
DTSTART;TZID=America/New_York:20171022T110000
DTEND;TZID=America/New_York:20171022T130000
DTSTAMP:20260417T142923
CREATED:20171001T191934Z
LAST-MODIFIED:20171001T192002Z
UID:680-1508670000-1508677200@protectionofthebvm.org
SUMMARY:Birthday Sunday for October
DESCRIPTION:Celebrating those with an October birthday.
URL:https://protectionofthebvm.org/event/birthday-sunday-3/
END:VEVENT
BEGIN:VEVENT
DTSTART;TZID=America/New_York:20171001T110000
DTEND;TZID=America/New_York:20171001T130000
DTSTAMP:20260417T142923
CREATED:20170724T010405Z
LAST-MODIFIED:20170910T174014Z
UID:587-1506855600-1506862800@protectionofthebvm.org
SUMMARY:Parish Feast Day
DESCRIPTION:There will be a covered dish dinner.
URL:https://protectionofthebvm.org/event/parish-feast-day-2/
END:VEVENT
BEGIN:VEVENT
DTSTART;VALUE=DATE:20170930
DTEND;VALUE=DATE:20171001
DTSTAMP:20260417T142923
CREATED:20170531T201120Z
LAST-MODIFIED:20170531T201120Z
UID:531-1506729600-1506815999@protectionofthebvm.org
SUMMARY:Ebensburg Potato Fest
DESCRIPTION:Our parish will be participating in the Ebensburg Potato Fest.\nWork days will be scheduled to make food for the event.\nIn addition to the work day\, parishioners are asked to bake goodies to sell at the event. The more you bake\, the more you help the parish to earn money to defray expenses.  More baking yields more cash.
URL:https://protectionofthebvm.org/event/ebensburg-potato-fest-2/
END:VEVENT
BEGIN:VEVENT
DTSTART;TZID=America/New_York:20170820T110000
DTEND;TZID=America/New_York:20170820T170000
DTSTAMP:20260417T142923
CREATED:20170518T001039Z
LAST-MODIFIED:20170619T233655Z
UID:520-1503226800-1503248400@protectionofthebvm.org
SUMMARY:Marian Pilgrimage
DESCRIPTION:Our Lady of Zarvanytisa Pilgrimage.  To learn more about this event\, click here.
URL:https://protectionofthebvm.org/event/marian-pilgrimage/
END:VEVENT
BEGIN:VEVENT
DTSTART;VALUE=DATE:20170807
DTEND;VALUE=DATE:20170812
DTSTAMP:20260417T142923
CREATED:20170518T000432Z
LAST-MODIFIED:20170518T000432Z
UID:518-1502064000-1502495999@protectionofthebvm.org
SUMMARY:Vacation Bible School 6:00 - 8:00PM
DESCRIPTION:
URL:https://protectionofthebvm.org/event/vacation-bible-school-600-800pm/
END:VEVENT
BEGIN:VEVENT
DTSTART;VALUE=DATE:20170714
DTEND;VALUE=DATE:20170717
DTSTAMP:20260417T142923
CREATED:20170531T201610Z
LAST-MODIFIED:20170531T201610Z
UID:533-1499990400-1500249599@protectionofthebvm.org
SUMMARY:Revloc Centennial Celebration
DESCRIPTION:Our parish will be selling food and having a yard sale in conjunction with the Centennial Celebration of Revloc. \nFor details\, see the May 28 bulletin. \n  \n 
URL:https://protectionofthebvm.org/event/revloc-centennial-celebration/
END:VEVENT
BEGIN:VEVENT
DTSTART;TZID=America/New_York:20170702T110000
DTEND;TZID=America/New_York:20170702T130000
DTSTAMP:20260417T142923
CREATED:20170629T233804Z
LAST-MODIFIED:20170629T233804Z
UID:573-1498993200-1499000400@protectionofthebvm.org
SUMMARY:Birthday Sunday for July
DESCRIPTION:Celebrating those with a July birthday.
URL:https://protectionofthebvm.org/event/birthday-sunday-for-july/
END:VEVENT
BEGIN:VEVENT
DTSTART;TZID=America/New_York:20170625T110000
DTEND;TZID=America/New_York:20170625T140000
DTSTAMP:20260417T142923
CREATED:20170518T000236Z
LAST-MODIFIED:20170531T200939Z
UID:516-1498388400-1498399200@protectionofthebvm.org
SUMMARY:Parish Picnic
DESCRIPTION:Please bring a covered dish and dessert..
URL:https://protectionofthebvm.org/event/parish-picnic/
END:VEVENT
BEGIN:VEVENT
DTSTART;TZID=America/New_York:20170618T110000
DTEND;TZID=America/New_York:20170618T130000
DTSTAMP:20260417T142923
CREATED:20170604T132201Z
LAST-MODIFIED:20170604T132201Z
UID:539-1497783600-1497790800@protectionofthebvm.org
SUMMARY:Birthday Sunday
DESCRIPTION:Celebrating those with a June birthday.
URL:https://protectionofthebvm.org/event/birthday-sunday-2/
END:VEVENT
BEGIN:VEVENT
DTSTART;TZID=America/New_York:20170521T110000
DTEND;TZID=America/New_York:20170521T130000
DTSTAMP:20260417T142923
CREATED:20170502T000229Z
LAST-MODIFIED:20170502T000229Z
UID:501-1495364400-1495371600@protectionofthebvm.org
SUMMARY:Birthday Sunday
DESCRIPTION:Celebrating those with a May birthday.
URL:https://protectionofthebvm.org/event/birthday-sunday/
END:VEVENT
BEGIN:VEVENT
DTSTART;TZID=America/New_York:20170509T190000
DTEND;TZID=America/New_York:20170509T210000
DTSTAMP:20260417T142923
CREATED:20170502T000544Z
LAST-MODIFIED:20170502T000544Z
UID:503-1494356400-1494363600@protectionofthebvm.org
SUMMARY:Parish Council Meeting
DESCRIPTION:There will be a PAC meeting at 7:00PM.
URL:https://protectionofthebvm.org/event/parish-council-meeting/
END:VEVENT
BEGIN:VEVENT
DTSTART;TZID=America/New_York:20170507T110000
DTEND;TZID=America/New_York:20170507T130000
DTSTAMP:20260417T142923
CREATED:20170410T191908Z
LAST-MODIFIED:20170410T191908Z
UID:481-1494154800-1494162000@protectionofthebvm.org
SUMMARY:Easter Dinner
DESCRIPTION:Our Annual Easter Dinner will be on May 7th. Please sign – up if you plan to attend. This will help in knowing the quantity of food to prepare.
URL:https://protectionofthebvm.org/event/easter-dinner/
END:VEVENT
BEGIN:VEVENT
DTSTART;TZID=America/New_York:20170416T060000
DTEND;TZID=America/New_York:20170416T080000
DTSTAMP:20260417T142923
CREATED:20170404T152507Z
LAST-MODIFIED:20170404T152507Z
UID:475-1492322400-1492329600@protectionofthebvm.org
SUMMARY:Easter Sunrise Service
DESCRIPTION:
URL:https://protectionofthebvm.org/event/easter-sunrise-service/
END:VEVENT
BEGIN:VEVENT
DTSTART;TZID=America/New_York:20170402T110000
DTEND;TZID=America/New_York:20170402T130000
DTSTAMP:20260417T142923
CREATED:20170313T145312Z
LAST-MODIFIED:20170313T145312Z
UID:461-1491130800-1491138000@protectionofthebvm.org
SUMMARY:St. Anna’s Kitchen
DESCRIPTION:St. Anna’s Kitchen will be serving a meal on April 2\, 2017. \n 
URL:https://protectionofthebvm.org/event/st-annas-kitchen-3/
END:VEVENT
BEGIN:VEVENT
DTSTART;TZID=America/New_York:20170401T130000
DTEND;TZID=America/New_York:20170401T170000
DTSTAMP:20260417T142923
CREATED:20170302T200408Z
LAST-MODIFIED:20170313T145026Z
UID:445-1491051600-1491066000@protectionofthebvm.org
SUMMARY:First Responders Spaghetti Dinner
DESCRIPTION:On April 1\, from 1-5 PM\, there will be a spaghetti dinner to honor the Fire Men\, Paramedics\, and Police.  The parishioners are asked to bake cakes to use as desserts.  Anyone wishing to volunteer your help for the event\, please see Beth Hunt.
URL:https://protectionofthebvm.org/event/first-responders-spaghetti-dinner/
END:VEVENT
BEGIN:VEVENT
DTSTART;TZID=America/New_York:20170328T180000
DTEND;TZID=America/New_York:20170328T193000
DTSTAMP:20260417T142923
CREATED:20170131T232742Z
LAST-MODIFIED:20170131T232742Z
UID:415-1490724000-1490729400@protectionofthebvm.org
SUMMARY:Parish Mission
DESCRIPTION:We are privileged to have the Very Reverend Michael Polosky coming in March for a Lenten Mission. Fr. Mike will be in Revloc on Tuesday\, March 28 – 6:00PM. Come and hear his message to help us prepare to celebrate the Feast of the Resurrection.
URL:https://protectionofthebvm.org/event/parish-mission/
END:VEVENT
BEGIN:VEVENT
DTSTART;TZID=America/New_York:20170326T110000
DTEND;TZID=America/New_York:20170326T130000
DTSTAMP:20260417T142923
CREATED:20170302T200243Z
LAST-MODIFIED:20170313T145433Z
UID:443-1490526000-1490533200@protectionofthebvm.org
SUMMARY:Birthday Sunday for March
DESCRIPTION:Celebrating those with a March birthday.
URL:https://protectionofthebvm.org/event/birthday-sunday-for-march/
END:VEVENT
BEGIN:VEVENT
DTSTART;TZID=America/New_York:20170325T090000
DTEND;TZID=America/New_York:20170325T120000
DTSTAMP:20260417T142923
CREATED:20170109T195116Z
LAST-MODIFIED:20170109T195116Z
UID:400-1490432400-1490443200@protectionofthebvm.org
SUMMARY:Pysanky Class
DESCRIPTION:
URL:https://protectionofthebvm.org/event/pysanky-class-2/
END:VEVENT
BEGIN:VEVENT
DTSTART;TZID=America/New_York:20170318T090000
DTEND;TZID=America/New_York:20170318T120000
DTSTAMP:20260417T142923
CREATED:20170109T195012Z
LAST-MODIFIED:20170109T195012Z
UID:398-1489827600-1489838400@protectionofthebvm.org
SUMMARY:Pysanky Class
DESCRIPTION:
URL:https://protectionofthebvm.org/event/pysanky-class/
END:VEVENT
BEGIN:VEVENT
DTSTART;TZID=America/New_York:20170305T110000
DTEND;TZID=America/New_York:20170305T130000
DTSTAMP:20260417T142923
CREATED:20170302T185654Z
LAST-MODIFIED:20170302T200118Z
UID:440-1488711600-1488718800@protectionofthebvm.org
SUMMARY:St. Anna’s Kitchen
DESCRIPTION:St. Anna’s Kitchen will be serving a meal.
URL:https://protectionofthebvm.org/event/st-annas-kitchen-2/
END:VEVENT
BEGIN:VEVENT
DTSTART;VALUE=DATE:20170227
DTEND;VALUE=DATE:20170228
DTSTAMP:20260417T142923
CREATED:20170109T194855Z
LAST-MODIFIED:20170109T194855Z
UID:396-1488153600-1488239999@protectionofthebvm.org
SUMMARY:First Day of Lent
DESCRIPTION:No meat or dairy products.
URL:https://protectionofthebvm.org/event/first-day-of-lent/
END:VEVENT
BEGIN:VEVENT
DTSTART;TZID=America/New_York:20170219T110000
DTEND;TZID=America/New_York:20170219T130000
DTSTAMP:20260417T142923
CREATED:20170131T232320Z
LAST-MODIFIED:20170131T232320Z
UID:413-1487502000-1487509200@protectionofthebvm.org
SUMMARY:Birthday Sunday for February
DESCRIPTION:Celebrating those with a February birthday.
URL:https://protectionofthebvm.org/event/birthday-sunday-for-february/
END:VEVENT
BEGIN:VEVENT
DTSTART;TZID=America/New_York:20170205T110000
DTEND;TZID=America/New_York:20170205T130000
DTSTAMP:20260417T142923
CREATED:20170123T185648Z
LAST-MODIFIED:20170123T185648Z
UID:410-1486292400-1486299600@protectionofthebvm.org
SUMMARY:St. Anna’s Kitchen
DESCRIPTION:St. Anna’s Kitchen will be serving a meal on February 5th.
URL:https://protectionofthebvm.org/event/st-annas-kitchen/
END:VEVENT
BEGIN:VEVENT
DTSTART;TZID=America/New_York:20170122T110000
DTEND;TZID=America/New_York:20170122T130000
DTSTAMP:20260417T142923
CREATED:20170103T140656Z
LAST-MODIFIED:20170116T215101Z
UID:383-1485082800-1485090000@protectionofthebvm.org
SUMMARY:Birthday Sunday for January
DESCRIPTION:Celebrating those with a January birthday.
URL:https://protectionofthebvm.org/event/birthday-sunday-for-january/
END:VEVENT
BEGIN:VEVENT
DTSTART;VALUE=DATE:20170108
DTEND;VALUE=DATE:20170109
DTSTAMP:20260417T142923
CREATED:20161024T190302Z
LAST-MODIFIED:20170103T140347Z
UID:315-1483833600-1483919999@protectionofthebvm.org
SUMMARY:Parish Christmas Dinner
DESCRIPTION:On Sunday (January 8) we will enjoy our annual Christmas Dinner.  Everyone is asked to bring a dessert. \n 
URL:https://protectionofthebvm.org/event/parish-christmas-dinner/
END:VEVENT
BEGIN:VEVENT
DTSTART;TZID=America/New_York:20170105T183000
DTEND;TZID=America/New_York:20170105T193000
DTSTAMP:20260417T142923
CREATED:20170103T141042Z
LAST-MODIFIED:20170103T141042Z
UID:387-1483641000-1483644600@protectionofthebvm.org
SUMMARY:Blessing of Water
DESCRIPTION:
URL:https://protectionofthebvm.org/event/blessing-of-water/
END:VEVENT
BEGIN:VEVENT
DTSTART;TZID=UTC:20161225T080000
DTEND;TZID=UTC:20161225T100000
DTSTAMP:20260417T142923
CREATED:20160918T035447Z
LAST-MODIFIED:20161209T153338Z
UID:248-1482652800-1482660000@protectionofthebvm.org
SUMMARY:Birth of our Lord and Savior
DESCRIPTION:Please join us in our Church on Christmas. Here is the schedule for the services: \n\nDecember 25th – 8:00am \nRemember to invite all your friends and family.
URL:https://protectionofthebvm.org/event/birth-of-our-lord-and-savior/
END:VEVENT
END:VCALENDAR