BEGIN:VCALENDAR
VERSION:2.0
PRODID:-//Holy Protection of the Mother of God - ECPv6.15.18//NONSGML v1.0//EN
CALSCALE:GREGORIAN
METHOD:PUBLISH
X-WR-CALNAME:Holy Protection of the Mother of God
X-ORIGINAL-URL:https://protectionofthebvm.org
X-WR-CALDESC:Events for Holy Protection of the Mother of God
REFRESH-INTERVAL;VALUE=DURATION:PT1H
X-Robots-Tag:noindex
X-PUBLISHED-TTL:PT1H
BEGIN:VTIMEZONE
TZID:America/New_York
BEGIN:DAYLIGHT
TZOFFSETFROM:-0500
TZOFFSETTO:-0400
TZNAME:EDT
DTSTART:20150308T070000
END:DAYLIGHT
BEGIN:STANDARD
TZOFFSETFROM:-0400
TZOFFSETTO:-0500
TZNAME:EST
DTSTART:20151101T060000
END:STANDARD
BEGIN:DAYLIGHT
TZOFFSETFROM:-0500
TZOFFSETTO:-0400
TZNAME:EDT
DTSTART:20160313T070000
END:DAYLIGHT
BEGIN:STANDARD
TZOFFSETFROM:-0400
TZOFFSETTO:-0500
TZNAME:EST
DTSTART:20161106T060000
END:STANDARD
BEGIN:DAYLIGHT
TZOFFSETFROM:-0500
TZOFFSETTO:-0400
TZNAME:EDT
DTSTART:20170312T070000
END:DAYLIGHT
BEGIN:STANDARD
TZOFFSETFROM:-0400
TZOFFSETTO:-0500
TZNAME:EST
DTSTART:20171105T060000
END:STANDARD
BEGIN:DAYLIGHT
TZOFFSETFROM:-0500
TZOFFSETTO:-0400
TZNAME:EDT
DTSTART:20180311T070000
END:DAYLIGHT
BEGIN:STANDARD
TZOFFSETFROM:-0400
TZOFFSETTO:-0500
TZNAME:EST
DTSTART:20181104T060000
END:STANDARD
END:VTIMEZONE
BEGIN:VTIMEZONE
TZID:UTC
BEGIN:STANDARD
TZOFFSETFROM:+0000
TZOFFSETTO:+0000
TZNAME:UTC
DTSTART:20150101T000000
END:STANDARD
END:VTIMEZONE
BEGIN:VEVENT
DTSTART;TZID=America/New_York:20170325T090000
DTEND;TZID=America/New_York:20170325T120000
DTSTAMP:20260419T170239
CREATED:20170109T195116Z
LAST-MODIFIED:20170109T195116Z
UID:400-1490432400-1490443200@protectionofthebvm.org
SUMMARY:Pysanky Class
DESCRIPTION:
URL:https://protectionofthebvm.org/event/pysanky-class-2/
END:VEVENT
BEGIN:VEVENT
DTSTART;TZID=America/New_York:20170318T090000
DTEND;TZID=America/New_York:20170318T120000
DTSTAMP:20260419T170239
CREATED:20170109T195012Z
LAST-MODIFIED:20170109T195012Z
UID:398-1489827600-1489838400@protectionofthebvm.org
SUMMARY:Pysanky Class
DESCRIPTION:
URL:https://protectionofthebvm.org/event/pysanky-class/
END:VEVENT
BEGIN:VEVENT
DTSTART;TZID=America/New_York:20170305T110000
DTEND;TZID=America/New_York:20170305T130000
DTSTAMP:20260419T170239
CREATED:20170302T185654Z
LAST-MODIFIED:20170302T200118Z
UID:440-1488711600-1488718800@protectionofthebvm.org
SUMMARY:St. Anna’s Kitchen
DESCRIPTION:St. Anna’s Kitchen will be serving a meal.
URL:https://protectionofthebvm.org/event/st-annas-kitchen-2/
END:VEVENT
BEGIN:VEVENT
DTSTART;VALUE=DATE:20170227
DTEND;VALUE=DATE:20170228
DTSTAMP:20260419T170239
CREATED:20170109T194855Z
LAST-MODIFIED:20170109T194855Z
UID:396-1488153600-1488239999@protectionofthebvm.org
SUMMARY:First Day of Lent
DESCRIPTION:No meat or dairy products.
URL:https://protectionofthebvm.org/event/first-day-of-lent/
END:VEVENT
BEGIN:VEVENT
DTSTART;TZID=America/New_York:20170219T110000
DTEND;TZID=America/New_York:20170219T130000
DTSTAMP:20260419T170239
CREATED:20170131T232320Z
LAST-MODIFIED:20170131T232320Z
UID:413-1487502000-1487509200@protectionofthebvm.org
SUMMARY:Birthday Sunday for February
DESCRIPTION:Celebrating those with a February birthday.
URL:https://protectionofthebvm.org/event/birthday-sunday-for-february/
END:VEVENT
BEGIN:VEVENT
DTSTART;TZID=America/New_York:20170205T110000
DTEND;TZID=America/New_York:20170205T130000
DTSTAMP:20260419T170239
CREATED:20170123T185648Z
LAST-MODIFIED:20170123T185648Z
UID:410-1486292400-1486299600@protectionofthebvm.org
SUMMARY:St. Anna’s Kitchen
DESCRIPTION:St. Anna’s Kitchen will be serving a meal on February 5th.
URL:https://protectionofthebvm.org/event/st-annas-kitchen/
END:VEVENT
BEGIN:VEVENT
DTSTART;TZID=America/New_York:20170122T110000
DTEND;TZID=America/New_York:20170122T130000
DTSTAMP:20260419T170239
CREATED:20170103T140656Z
LAST-MODIFIED:20170116T215101Z
UID:383-1485082800-1485090000@protectionofthebvm.org
SUMMARY:Birthday Sunday for January
DESCRIPTION:Celebrating those with a January birthday.
URL:https://protectionofthebvm.org/event/birthday-sunday-for-january/
END:VEVENT
BEGIN:VEVENT
DTSTART;VALUE=DATE:20170108
DTEND;VALUE=DATE:20170109
DTSTAMP:20260419T170239
CREATED:20161024T190302Z
LAST-MODIFIED:20170103T140347Z
UID:315-1483833600-1483919999@protectionofthebvm.org
SUMMARY:Parish Christmas Dinner
DESCRIPTION:On Sunday (January 8) we will enjoy our annual Christmas Dinner.  Everyone is asked to bring a dessert. \n 
URL:https://protectionofthebvm.org/event/parish-christmas-dinner/
END:VEVENT
BEGIN:VEVENT
DTSTART;TZID=America/New_York:20170105T183000
DTEND;TZID=America/New_York:20170105T193000
DTSTAMP:20260419T170239
CREATED:20170103T141042Z
LAST-MODIFIED:20170103T141042Z
UID:387-1483641000-1483644600@protectionofthebvm.org
SUMMARY:Blessing of Water
DESCRIPTION:
URL:https://protectionofthebvm.org/event/blessing-of-water/
END:VEVENT
BEGIN:VEVENT
DTSTART;TZID=UTC:20161225T080000
DTEND;TZID=UTC:20161225T100000
DTSTAMP:20260419T170239
CREATED:20160918T035447Z
LAST-MODIFIED:20161209T153338Z
UID:248-1482652800-1482660000@protectionofthebvm.org
SUMMARY:Birth of our Lord and Savior
DESCRIPTION:Please join us in our Church on Christmas. Here is the schedule for the services: \n\nDecember 25th – 8:00am \nRemember to invite all your friends and family.
URL:https://protectionofthebvm.org/event/birth-of-our-lord-and-savior/
END:VEVENT
BEGIN:VEVENT
DTSTART;VALUE=DATE:20161218
DTEND;VALUE=DATE:20161219
DTSTAMP:20260419T170239
CREATED:20161115T210715Z
LAST-MODIFIED:20161115T210715Z
UID:337-1482019200-1482105599@protectionofthebvm.org
SUMMARY:Nut Roll and Poppy Seed Roll Sale
DESCRIPTION:Our parish will have its Christmas Nut Roll Sale Dec. 18.  Please get orders from your friends and family.  All are welcome to come and help bake on Dec. 17th. \n 
URL:https://protectionofthebvm.org/event/nut-roll-and-poppy-seed-roll-sale/
END:VEVENT
BEGIN:VEVENT
DTSTART;VALUE=DATE:20161210
DTEND;VALUE=DATE:20161211
DTSTAMP:20260419T170239
CREATED:20161024T185947Z
LAST-MODIFIED:20161031T191258Z
UID:313-1481328000-1481414399@protectionofthebvm.org
SUMMARY:A Ukrainian Christmas Eve Dinner
DESCRIPTION:On December 10th\, we are inviting the public to come and experience a “Ukrainian Christmas Eve Dinner”.  Please ask your friends if they would like to attend.   It is $30.00/person.  Parishioners are asked to volunteer their time to help work the event. \nFor more information\, see this post: \nCome Celebrate a Ukrainian Christmas Eve
URL:https://protectionofthebvm.org/event/a-ukrainian-christmas-eve-dinner/
END:VEVENT
BEGIN:VEVENT
DTSTART;TZID=UTC:20161204T110000
DTEND;TZID=UTC:20161204T130000
DTSTAMP:20260419T170239
CREATED:20160918T035417Z
LAST-MODIFIED:20160918T035417Z
UID:246-1480849200-1480856400@protectionofthebvm.org
SUMMARY:St. Nicholas Visit
DESCRIPTION:St. Nicholas will make his 46th visit to the parish.
URL:https://protectionofthebvm.org/event/st-nicholas-visit/
END:VEVENT
BEGIN:VEVENT
DTSTART;VALUE=DATE:20161115
DTEND;VALUE=DATE:20161116
DTSTAMP:20260419T170239
CREATED:20160918T035306Z
LAST-MODIFIED:20161115T210340Z
UID:244-1479168000-1479254399@protectionofthebvm.org
SUMMARY:St. Philip's Fast begins (Advent)
DESCRIPTION:Philip’s Fast (Pylypivka)\, the pre-Christmas fast which begins this week on Nov. 15th – the day after the feast of St. Philip – is a 40 days period of spiritual preparation for the celebration of the Nativity/Theophany cycle of the church year. It was once a period of strict fasting\, which has now been abrogated in favor of voluntary fasting and works of penance. \n 
URL:https://protectionofthebvm.org/event/st-philips-fast-begins-advent/
END:VEVENT
BEGIN:VEVENT
DTSTART;TZID=UTC:20161023T110000
DTEND;TZID=UTC:20161023T130000
DTSTAMP:20260419T170239
CREATED:20160918T034957Z
LAST-MODIFIED:20160918T034957Z
UID:241-1477220400-1477227600@protectionofthebvm.org
SUMMARY:Birthday Sunday for October
DESCRIPTION:Celebrating those with an October Birthday.
URL:https://protectionofthebvm.org/event/birthday-sunday-for-october/
END:VEVENT
BEGIN:VEVENT
DTSTART;TZID=UTC:20161009T140000
DTEND;TZID=UTC:20161009T180000
DTSTAMP:20260419T170239
CREATED:20160918T034851Z
LAST-MODIFIED:20160918T035133Z
UID:239-1476021600-1476036000@protectionofthebvm.org
SUMMARY:90th Anniversary Celebration
DESCRIPTION:Divine Liturgy of Thanksgiving celebrated by Fr. Andriy and fellow clergy at 2:00PM.  Banquet at Kosta’s Restaurant following the Liturgy.
URL:https://protectionofthebvm.org/event/90th-anniversary-celebration/
END:VEVENT
BEGIN:VEVENT
DTSTART;TZID=UTC:20161002T110000
DTEND;TZID=UTC:20161002T130000
DTSTAMP:20260419T170239
CREATED:20160918T034652Z
LAST-MODIFIED:20160918T034652Z
UID:237-1475406000-1475413200@protectionofthebvm.org
SUMMARY:Parish Feast Day Covered Dish Dinner
DESCRIPTION:
URL:https://protectionofthebvm.org/event/parish-feast-day-covered-dish-dinner/
END:VEVENT
BEGIN:VEVENT
DTSTART;VALUE=DATE:20161001
DTEND;VALUE=DATE:20161002
DTSTAMP:20260419T170239
CREATED:20160918T034437Z
LAST-MODIFIED:20160918T034437Z
UID:235-1475280000-1475366399@protectionofthebvm.org
SUMMARY:Parish Feast Day
DESCRIPTION:
URL:https://protectionofthebvm.org/event/parish-feast-day/
END:VEVENT
BEGIN:VEVENT
DTSTART;TZID=UTC:20160924T090000
DTEND;TZID=UTC:20160924T170000
DTSTAMP:20260419T170239
CREATED:20160918T034121Z
LAST-MODIFIED:20160918T034121Z
UID:232-1474707600-1474736400@protectionofthebvm.org
SUMMARY:Ebensburg Potato Fest
DESCRIPTION:Visit our food booth in downtown Ebensburg.  This is our biggest fund raiser of the year.  Come and help make it a big success!
URL:https://protectionofthebvm.org/event/ebensburg-potato-fest/
END:VEVENT
BEGIN:VEVENT
DTSTART;TZID=UTC:20160918T110000
DTEND;TZID=UTC:20160918T130000
DTSTAMP:20260419T170239
CREATED:20160909T003349Z
LAST-MODIFIED:20160918T034325Z
UID:86-1474196400-1474203600@protectionofthebvm.org
SUMMARY:Birthday Sunday for September
DESCRIPTION:Celebrating those with a September birthday.
URL:https://protectionofthebvm.org/event/birthday-sunday-celebrating-those-with-a-september-birthday/
END:VEVENT
END:VCALENDAR