BEGIN:VCALENDAR
VERSION:2.0
PRODID:-//Holy Protection of the Mother of God - ECPv6.15.18//NONSGML v1.0//EN
CALSCALE:GREGORIAN
METHOD:PUBLISH
X-WR-CALNAME:Holy Protection of the Mother of God
X-ORIGINAL-URL:https://protectionofthebvm.org
X-WR-CALDESC:Events for Holy Protection of the Mother of God
REFRESH-INTERVAL;VALUE=DURATION:PT1H
X-Robots-Tag:noindex
X-PUBLISHED-TTL:PT1H
BEGIN:VTIMEZONE
TZID:America/New_York
BEGIN:DAYLIGHT
TZOFFSETFROM:-0500
TZOFFSETTO:-0400
TZNAME:EDT
DTSTART:20160313T070000
END:DAYLIGHT
BEGIN:STANDARD
TZOFFSETFROM:-0400
TZOFFSETTO:-0500
TZNAME:EST
DTSTART:20161106T060000
END:STANDARD
BEGIN:DAYLIGHT
TZOFFSETFROM:-0500
TZOFFSETTO:-0400
TZNAME:EDT
DTSTART:20170312T070000
END:DAYLIGHT
BEGIN:STANDARD
TZOFFSETFROM:-0400
TZOFFSETTO:-0500
TZNAME:EST
DTSTART:20171105T060000
END:STANDARD
BEGIN:DAYLIGHT
TZOFFSETFROM:-0500
TZOFFSETTO:-0400
TZNAME:EDT
DTSTART:20180311T070000
END:DAYLIGHT
BEGIN:STANDARD
TZOFFSETFROM:-0400
TZOFFSETTO:-0500
TZNAME:EST
DTSTART:20181104T060000
END:STANDARD
END:VTIMEZONE
BEGIN:VEVENT
DTSTART;VALUE=DATE:20170930
DTEND;VALUE=DATE:20171001
DTSTAMP:20260425T183002
CREATED:20170531T201120Z
LAST-MODIFIED:20170531T201120Z
UID:531-1506729600-1506815999@protectionofthebvm.org
SUMMARY:Ebensburg Potato Fest
DESCRIPTION:Our parish will be participating in the Ebensburg Potato Fest.\nWork days will be scheduled to make food for the event.\nIn addition to the work day\, parishioners are asked to bake goodies to sell at the event. The more you bake\, the more you help the parish to earn money to defray expenses.  More baking yields more cash.
URL:https://protectionofthebvm.org/event/ebensburg-potato-fest-2/
END:VEVENT
END:VCALENDAR