BEGIN:VCALENDAR
VERSION:2.0
PRODID:-//Holy Protection of the Mother of God - ECPv6.15.18//NONSGML v1.0//EN
CALSCALE:GREGORIAN
METHOD:PUBLISH
X-ORIGINAL-URL:https://protectionofthebvm.org
X-WR-CALDESC:Events for Holy Protection of the Mother of God
REFRESH-INTERVAL;VALUE=DURATION:PT1H
X-Robots-Tag:noindex
X-PUBLISHED-TTL:PT1H
BEGIN:VTIMEZONE
TZID:America/New_York
BEGIN:DAYLIGHT
TZOFFSETFROM:-0500
TZOFFSETTO:-0400
TZNAME:EDT
DTSTART:20170312T070000
END:DAYLIGHT
BEGIN:STANDARD
TZOFFSETFROM:-0400
TZOFFSETTO:-0500
TZNAME:EST
DTSTART:20171105T060000
END:STANDARD
BEGIN:DAYLIGHT
TZOFFSETFROM:-0500
TZOFFSETTO:-0400
TZNAME:EDT
DTSTART:20180311T070000
END:DAYLIGHT
BEGIN:STANDARD
TZOFFSETFROM:-0400
TZOFFSETTO:-0500
TZNAME:EST
DTSTART:20181104T060000
END:STANDARD
BEGIN:DAYLIGHT
TZOFFSETFROM:-0500
TZOFFSETTO:-0400
TZNAME:EDT
DTSTART:20190310T070000
END:DAYLIGHT
BEGIN:STANDARD
TZOFFSETFROM:-0400
TZOFFSETTO:-0500
TZNAME:EST
DTSTART:20191103T060000
END:STANDARD
END:VTIMEZONE
BEGIN:VEVENT
DTSTART;VALUE=DATE:20180806
DTEND;VALUE=DATE:20180811
DTSTAMP:20260424T224654
CREATED:20180408T212111Z
LAST-MODIFIED:20180408T212111Z
UID:900-1533513600-1533945599@protectionofthebvm.org
SUMMARY:Vacation Bible School
DESCRIPTION:Vacation Bible School: 6:00 to 7:30PM
URL:https://protectionofthebvm.org/event/vacation-bible-school/
END:VEVENT
BEGIN:VEVENT
DTSTART;TZID=America/New_York:20180819T110000
DTEND;TZID=America/New_York:20180819T170000
DTSTAMP:20260424T224654
CREATED:20180408T212306Z
LAST-MODIFIED:20180813T160304Z
UID:902-1534676400-1534698000@protectionofthebvm.org
SUMMARY:Pilgrimage to our Lady of Zarvanytsia
DESCRIPTION:
URL:https://protectionofthebvm.org/event/pilgrimage-to-our-lady-of-zarvanytsia/
END:VEVENT
BEGIN:VEVENT
DTSTART;VALUE=DATE:20180831
DTEND;VALUE=DATE:20180903
DTSTAMP:20260424T224654
CREATED:20180701T020321Z
LAST-MODIFIED:20180701T020321Z
UID:963-1535673600-1535932799@protectionofthebvm.org
SUMMARY:Ethnic Festival in Johnstown
DESCRIPTION:We are participating.
URL:https://protectionofthebvm.org/event/ethnic-festival-in-johnstown/
END:VEVENT
END:VCALENDAR