BEGIN:VCALENDAR
VERSION:2.0
PRODID:-//Holy Protection of the Mother of God - ECPv6.15.18//NONSGML v1.0//EN
CALSCALE:GREGORIAN
METHOD:PUBLISH
X-ORIGINAL-URL:https://protectionofthebvm.org
X-WR-CALDESC:Events for Holy Protection of the Mother of God
REFRESH-INTERVAL;VALUE=DURATION:PT1H
X-Robots-Tag:noindex
X-PUBLISHED-TTL:PT1H
BEGIN:VTIMEZONE
TZID:America/New_York
BEGIN:DAYLIGHT
TZOFFSETFROM:-0500
TZOFFSETTO:-0400
TZNAME:EDT
DTSTART:20170312T070000
END:DAYLIGHT
BEGIN:STANDARD
TZOFFSETFROM:-0400
TZOFFSETTO:-0500
TZNAME:EST
DTSTART:20171105T060000
END:STANDARD
BEGIN:DAYLIGHT
TZOFFSETFROM:-0500
TZOFFSETTO:-0400
TZNAME:EDT
DTSTART:20180311T070000
END:DAYLIGHT
BEGIN:STANDARD
TZOFFSETFROM:-0400
TZOFFSETTO:-0500
TZNAME:EST
DTSTART:20181104T060000
END:STANDARD
BEGIN:DAYLIGHT
TZOFFSETFROM:-0500
TZOFFSETTO:-0400
TZNAME:EDT
DTSTART:20190310T070000
END:DAYLIGHT
BEGIN:STANDARD
TZOFFSETFROM:-0400
TZOFFSETTO:-0500
TZNAME:EST
DTSTART:20191103T060000
END:STANDARD
END:VTIMEZONE
BEGIN:VEVENT
DTSTART;TZID=America/New_York:20181007T110000
DTEND;TZID=America/New_York:20181007T133000
DTSTAMP:20260424T192055
CREATED:20180910T193235Z
LAST-MODIFIED:20180910T193235Z
UID:1013-1538910000-1538919000@protectionofthebvm.org
SUMMARY:Parish Feast Day Covered Dish Dinner
DESCRIPTION:There will be a covered dish dinner on Oct 7. Everyone is asked to bring food and a dessert.
URL:https://protectionofthebvm.org/event/parish-feast-day-covered-dish-dinner-2/
END:VEVENT
BEGIN:VEVENT
DTSTART;TZID=America/New_York:20181014T150000
DTEND;TZID=America/New_York:20181014T190000
DTSTAMP:20260424T192055
CREATED:20180701T020509Z
LAST-MODIFIED:20180701T020509Z
UID:965-1539529200-1539543600@protectionofthebvm.org
SUMMARY:Diaconal Ordination of Chris Bellock & Tony Dragani
DESCRIPTION:
URL:https://protectionofthebvm.org/event/diaconal-ordination-of-chris-bellock-tony-dragani/
END:VEVENT
END:VCALENDAR