BEGIN:VCALENDAR
VERSION:2.0
PRODID:-//Holy Protection of the Mother of God - ECPv6.15.18//NONSGML v1.0//EN
CALSCALE:GREGORIAN
METHOD:PUBLISH
X-WR-CALNAME:Holy Protection of the Mother of God
X-ORIGINAL-URL:https://protectionofthebvm.org
X-WR-CALDESC:Events for Holy Protection of the Mother of God
REFRESH-INTERVAL;VALUE=DURATION:PT1H
X-Robots-Tag:noindex
X-PUBLISHED-TTL:PT1H
BEGIN:VTIMEZONE
TZID:America/New_York
BEGIN:DAYLIGHT
TZOFFSETFROM:-0500
TZOFFSETTO:-0400
TZNAME:EDT
DTSTART:20170312T070000
END:DAYLIGHT
BEGIN:STANDARD
TZOFFSETFROM:-0400
TZOFFSETTO:-0500
TZNAME:EST
DTSTART:20171105T060000
END:STANDARD
BEGIN:DAYLIGHT
TZOFFSETFROM:-0500
TZOFFSETTO:-0400
TZNAME:EDT
DTSTART:20180311T070000
END:DAYLIGHT
BEGIN:STANDARD
TZOFFSETFROM:-0400
TZOFFSETTO:-0500
TZNAME:EST
DTSTART:20181104T060000
END:STANDARD
BEGIN:DAYLIGHT
TZOFFSETFROM:-0500
TZOFFSETTO:-0400
TZNAME:EDT
DTSTART:20190310T070000
END:DAYLIGHT
BEGIN:STANDARD
TZOFFSETFROM:-0400
TZOFFSETTO:-0500
TZNAME:EST
DTSTART:20191103T060000
END:STANDARD
END:VTIMEZONE
BEGIN:VEVENT
DTSTART;TZID=America/New_York:20181202T110000
DTEND;TZID=America/New_York:20181202T133000
DTSTAMP:20260424T155204
CREATED:20181022T234137Z
LAST-MODIFIED:20181022T234137Z
UID:1034-1543748400-1543757400@protectionofthebvm.org
SUMMARY:St. Nicholas Visit
DESCRIPTION:St.  Nicholas will make his 48th annual visit to the children of the parish.  There will be a covered dish dinner following the Liturgy on December 2nd. Everyone is asked to bring food and a dessert. \n 
URL:https://protectionofthebvm.org/event/st-nicholas-visit-3/
END:VEVENT
BEGIN:VEVENT
DTSTART;TZID=America/New_York:20181223T110000
DTEND;TZID=America/New_York:20181223T130000
DTSTAMP:20260424T155204
CREATED:20181202T020605Z
LAST-MODIFIED:20181218T025315Z
UID:1055-1545562800-1545570000@protectionofthebvm.org
SUMMARY:Birthday Sunday for December
DESCRIPTION:Celebrating those with a December birthday.
URL:https://protectionofthebvm.org/event/birthday-sunday-for-december-2/
END:VEVENT
BEGIN:VEVENT
DTSTART;TZID=America/New_York:20181225T110000
DTEND;TZID=America/New_York:20181225T120000
DTSTAMP:20260424T155204
CREATED:20181202T020741Z
LAST-MODIFIED:20181202T020741Z
UID:1057-1545735600-1545739200@protectionofthebvm.org
SUMMARY:Christmas Liturgy
DESCRIPTION:Christmas Day liturgy will be at 11 AM in Revloc.
URL:https://protectionofthebvm.org/event/christmas-liturgy-2/
END:VEVENT
BEGIN:VEVENT
DTSTART;TZID=America/New_York:20181230T110000
DTEND;TZID=America/New_York:20181230T130000
DTSTAMP:20260424T155204
CREATED:20181228T161150Z
LAST-MODIFIED:20181228T161150Z
UID:1166-1546167600-1546174800@protectionofthebvm.org
SUMMARY:Christmas Dinner
DESCRIPTION:Our annual parish Christmas dinner is on Sunday\, December 30.  Everyone is asked to bring a dessert
URL:https://protectionofthebvm.org/event/christmas-dinner/
END:VEVENT
END:VCALENDAR