BEGIN:VCALENDAR
VERSION:2.0
PRODID:-//Holy Protection of the Mother of God - ECPv6.15.18//NONSGML v1.0//EN
CALSCALE:GREGORIAN
METHOD:PUBLISH
X-ORIGINAL-URL:https://protectionofthebvm.org
X-WR-CALDESC:Events for Holy Protection of the Mother of God
REFRESH-INTERVAL;VALUE=DURATION:PT1H
X-Robots-Tag:noindex
X-PUBLISHED-TTL:PT1H
BEGIN:VTIMEZONE
TZID:America/New_York
BEGIN:DAYLIGHT
TZOFFSETFROM:-0500
TZOFFSETTO:-0400
TZNAME:EDT
DTSTART:20180311T070000
END:DAYLIGHT
BEGIN:STANDARD
TZOFFSETFROM:-0400
TZOFFSETTO:-0500
TZNAME:EST
DTSTART:20181104T060000
END:STANDARD
BEGIN:DAYLIGHT
TZOFFSETFROM:-0500
TZOFFSETTO:-0400
TZNAME:EDT
DTSTART:20190310T070000
END:DAYLIGHT
BEGIN:STANDARD
TZOFFSETFROM:-0400
TZOFFSETTO:-0500
TZNAME:EST
DTSTART:20191103T060000
END:STANDARD
BEGIN:DAYLIGHT
TZOFFSETFROM:-0500
TZOFFSETTO:-0400
TZNAME:EDT
DTSTART:20200308T070000
END:DAYLIGHT
BEGIN:STANDARD
TZOFFSETFROM:-0400
TZOFFSETTO:-0500
TZNAME:EST
DTSTART:20201101T060000
END:STANDARD
END:VTIMEZONE
BEGIN:VEVENT
DTSTART;TZID=America/New_York:20190316T090000
DTEND;TZID=America/New_York:20190316T120000
DTSTAMP:20260424T104537
CREATED:20190205T004612Z
LAST-MODIFIED:20190312T032636Z
UID:1210-1552726800-1552737600@protectionofthebvm.org
SUMMARY:Pysanky Class
DESCRIPTION:Join us for the annual Ukrainian Easter Egg Class.\nSaturday\, March 16 and 23 from 9 to 12.\nFor more details: Call 472-9396 and leave a message\nor PM or email protectionofthebvm@verizon.net
URL:https://protectionofthebvm.org/event/pysanky-class-6/
END:VEVENT
BEGIN:VEVENT
DTSTART;TZID=America/New_York:20190323T090000
DTEND;TZID=America/New_York:20190323T120000
DTSTAMP:20260424T104537
CREATED:20190205T004528Z
LAST-MODIFIED:20190312T032626Z
UID:1208-1553331600-1553342400@protectionofthebvm.org
SUMMARY:Pysanky Class
DESCRIPTION:Join us for the annual Ukrainian Easter Egg Class.\nSaturday\, March 16 and 23 from 9 to 12.\nFor more details: Call 472-9396 and leave a message\nor PM or email protectionofthebvm@verizon.net \n 
URL:https://protectionofthebvm.org/event/pysanky-class-5/
END:VEVENT
BEGIN:VEVENT
DTSTART;TZID=America/New_York:20190326T180000
DTEND;TZID=America/New_York:20190326T180000
DTSTAMP:20260424T104537
CREATED:20190312T031937Z
LAST-MODIFIED:20190312T032005Z
UID:1224-1553623200-1553623200@protectionofthebvm.org
SUMMARY:Lenten Mission
DESCRIPTION:Come and experience forgiveness and mercy of God given to those who humbly repent of their sins. \nFather Ananias Buccicone\, O.S.B.\, from Queen of Peace Roman Catholic Church in Patton\, PA will be the guest speaker for the Mission. \nThe Mission will begin with the Liturgy of St. Gregory the Great\, also known as the Liturgy of the Presanctified Gifts\, at which Fr. Ananias will give us his words of wisdom followed by a fellowship in the church hall. \nEach person will have an opportunity to go to confession before\, during and after the mission. \nAll are welcome to join in this wonderful expression of unity to help us prepare for the celebration of the Resurrection of our Lord and Savior\, Jesus Christ. \n 
URL:https://protectionofthebvm.org/event/lenten-mission/
END:VEVENT
END:VCALENDAR