BEGIN:VCALENDAR
VERSION:2.0
PRODID:-//Holy Protection of the Mother of God - ECPv6.15.18//NONSGML v1.0//EN
CALSCALE:GREGORIAN
METHOD:PUBLISH
X-ORIGINAL-URL:https://protectionofthebvm.org
X-WR-CALDESC:Events for Holy Protection of the Mother of God
REFRESH-INTERVAL;VALUE=DURATION:PT1H
X-Robots-Tag:noindex
X-PUBLISHED-TTL:PT1H
BEGIN:VTIMEZONE
TZID:America/New_York
BEGIN:DAYLIGHT
TZOFFSETFROM:-0500
TZOFFSETTO:-0400
TZNAME:EDT
DTSTART:20180311T070000
END:DAYLIGHT
BEGIN:STANDARD
TZOFFSETFROM:-0400
TZOFFSETTO:-0500
TZNAME:EST
DTSTART:20181104T060000
END:STANDARD
BEGIN:DAYLIGHT
TZOFFSETFROM:-0500
TZOFFSETTO:-0400
TZNAME:EDT
DTSTART:20190310T070000
END:DAYLIGHT
BEGIN:STANDARD
TZOFFSETFROM:-0400
TZOFFSETTO:-0500
TZNAME:EST
DTSTART:20191103T060000
END:STANDARD
BEGIN:DAYLIGHT
TZOFFSETFROM:-0500
TZOFFSETTO:-0400
TZNAME:EDT
DTSTART:20200308T070000
END:DAYLIGHT
BEGIN:STANDARD
TZOFFSETFROM:-0400
TZOFFSETTO:-0500
TZNAME:EST
DTSTART:20201101T060000
END:STANDARD
END:VTIMEZONE
BEGIN:VEVENT
DTSTART;TZID=America/New_York:20191110T130000
DTEND;TZID=America/New_York:20191110T140000
DTSTAMP:20260423T213434
CREATED:20191003T153615Z
LAST-MODIFIED:20191031T191819Z
UID:1367-1573390800-1573394400@protectionofthebvm.org
SUMMARY:Vox Nova Concert: Music of the Eastern Churches
DESCRIPTION:Vox Nova Choir from Mount Aloysius College will perform a concert of Eastern Christian sacred music at our church. \nPlease join us for an experience of the mystical chant and hymns of the Eastern Christian tradition. \nSunday\, Nov. 10 at 1:00PM \nA small reception will follow the concert in the church social hall. \nYou will find more details here: \nConcert: Sacred Music of the Eastern Churches
URL:https://protectionofthebvm.org/event/vox-nova-concert-music-of-the-eastern-churches/
END:VEVENT
BEGIN:VEVENT
DTSTART;TZID=America/New_York:20191117T110000
DTEND;TZID=America/New_York:20191117T130000
DTSTAMP:20260423T213434
CREATED:20191029T194821Z
LAST-MODIFIED:20191029T194821Z
UID:1381-1573988400-1573995600@protectionofthebvm.org
SUMMARY:Birthday Sunday for November
DESCRIPTION:Celebrating those with a November birthday.
URL:https://protectionofthebvm.org/event/birthday-sunday-for-november/
END:VEVENT
END:VCALENDAR