BEGIN:VCALENDAR
VERSION:2.0
PRODID:-//Holy Protection of the Mother of God - ECPv6.15.18//NONSGML v1.0//EN
CALSCALE:GREGORIAN
METHOD:PUBLISH
X-ORIGINAL-URL:https://protectionofthebvm.org
X-WR-CALDESC:Events for Holy Protection of the Mother of God
REFRESH-INTERVAL;VALUE=DURATION:PT1H
X-Robots-Tag:noindex
X-PUBLISHED-TTL:PT1H
BEGIN:VTIMEZONE
TZID:America/New_York
BEGIN:DAYLIGHT
TZOFFSETFROM:-0500
TZOFFSETTO:-0400
TZNAME:EDT
DTSTART:20190310T070000
END:DAYLIGHT
BEGIN:STANDARD
TZOFFSETFROM:-0400
TZOFFSETTO:-0500
TZNAME:EST
DTSTART:20191103T060000
END:STANDARD
BEGIN:DAYLIGHT
TZOFFSETFROM:-0500
TZOFFSETTO:-0400
TZNAME:EDT
DTSTART:20200308T070000
END:DAYLIGHT
BEGIN:STANDARD
TZOFFSETFROM:-0400
TZOFFSETTO:-0500
TZNAME:EST
DTSTART:20201101T060000
END:STANDARD
BEGIN:DAYLIGHT
TZOFFSETFROM:-0500
TZOFFSETTO:-0400
TZNAME:EDT
DTSTART:20210314T070000
END:DAYLIGHT
BEGIN:STANDARD
TZOFFSETFROM:-0400
TZOFFSETTO:-0500
TZNAME:EST
DTSTART:20211107T060000
END:STANDARD
END:VTIMEZONE
BEGIN:VEVENT
DTSTART;VALUE=DATE:20200727
DTEND;VALUE=DATE:20200801
DTSTAMP:20260423T083015
CREATED:20200615T212715Z
LAST-MODIFIED:20200615T212715Z
UID:1576-1595808000-1596239999@protectionofthebvm.org
SUMMARY:Vacation Bible School
DESCRIPTION:VBS will be July 27 to 31 from 6:00 to 7:30PM for ages 5 and up.
URL:https://protectionofthebvm.org/event/vacation-bible-school-2/
END:VEVENT
END:VCALENDAR