BEGIN:VCALENDAR
VERSION:2.0
PRODID:-//Holy Protection of the Mother of God - ECPv6.15.18//NONSGML v1.0//EN
CALSCALE:GREGORIAN
METHOD:PUBLISH
X-WR-CALNAME:Holy Protection of the Mother of God
X-ORIGINAL-URL:https://protectionofthebvm.org
X-WR-CALDESC:Events for Holy Protection of the Mother of God
REFRESH-INTERVAL;VALUE=DURATION:PT1H
X-Robots-Tag:noindex
X-PUBLISHED-TTL:PT1H
BEGIN:VTIMEZONE
TZID:America/New_York
BEGIN:DAYLIGHT
TZOFFSETFROM:-0500
TZOFFSETTO:-0400
TZNAME:EDT
DTSTART:20190310T070000
END:DAYLIGHT
BEGIN:STANDARD
TZOFFSETFROM:-0400
TZOFFSETTO:-0500
TZNAME:EST
DTSTART:20191103T060000
END:STANDARD
BEGIN:DAYLIGHT
TZOFFSETFROM:-0500
TZOFFSETTO:-0400
TZNAME:EDT
DTSTART:20200308T070000
END:DAYLIGHT
BEGIN:STANDARD
TZOFFSETFROM:-0400
TZOFFSETTO:-0500
TZNAME:EST
DTSTART:20201101T060000
END:STANDARD
BEGIN:DAYLIGHT
TZOFFSETFROM:-0500
TZOFFSETTO:-0400
TZNAME:EDT
DTSTART:20210314T070000
END:DAYLIGHT
BEGIN:STANDARD
TZOFFSETFROM:-0400
TZOFFSETTO:-0500
TZNAME:EST
DTSTART:20211107T060000
END:STANDARD
END:VTIMEZONE
BEGIN:VEVENT
DTSTART;TZID=America/New_York:20201206T110000
DTEND;TZID=America/New_York:20201206T123000
DTSTAMP:20260422T231505
CREATED:20201201T231524Z
LAST-MODIFIED:20201201T231524Z
UID:1677-1607252400-1607257800@protectionofthebvm.org
SUMMARY:St. Nicholas Visit
DESCRIPTION:St. Nicholas will be making his 51st visit to our parish on Dec. 6 following the Divine Liturgy. Our tradition will continue with some modifications. There will not be a gathering for fellowship in the hall. St. Nicholas will distribute gifts to the children in the church after the Divine Liturgy
URL:https://protectionofthebvm.org/event/st-nicholas-visit-5/
END:VEVENT
BEGIN:VEVENT
DTSTART;VALUE=DATE:20201212
DTEND;VALUE=DATE:20201213
DTSTAMP:20260422T231505
CREATED:20201027T153152Z
LAST-MODIFIED:20201027T153152Z
UID:1660-1607731200-1607817599@protectionofthebvm.org
SUMMARY:Saturdays with Jesus
DESCRIPTION:
URL:https://protectionofthebvm.org/event/saturdays-with-jesus-2/
END:VEVENT
BEGIN:VEVENT
DTSTART;TZID=America/New_York:20201225T110000
DTEND;TZID=America/New_York:20201225T120000
DTSTAMP:20260422T231505
CREATED:20201215T010649Z
LAST-MODIFIED:20201215T010649Z
UID:1693-1608894000-1608897600@protectionofthebvm.org
SUMMARY:Christmas Divine Liturgy
DESCRIPTION:Christmas Eve – December 24th  \n\n4:00 PM  – Christmas Eve Service in Northern Cambria\n10:00PM – Christmas Vigil Liturgy in Northern Cambria\n\nChristmas Day – December 25th  \n\n9:00AM – Divine Liturgy for the Nativity of our Lord in Northern Cambria\n11:00AM – Divine Liturgy for the Nativity of Our Lord in Revloc
URL:https://protectionofthebvm.org/event/christmas-divine-liturgy-2/
END:VEVENT
END:VCALENDAR