BEGIN:VCALENDAR
VERSION:2.0
PRODID:-//Holy Protection of the Mother of God - ECPv6.15.18//NONSGML v1.0//EN
CALSCALE:GREGORIAN
METHOD:PUBLISH
X-ORIGINAL-URL:https://protectionofthebvm.org
X-WR-CALDESC:Events for Holy Protection of the Mother of God
REFRESH-INTERVAL;VALUE=DURATION:PT1H
X-Robots-Tag:noindex
X-PUBLISHED-TTL:PT1H
BEGIN:VTIMEZONE
TZID:America/New_York
BEGIN:DAYLIGHT
TZOFFSETFROM:-0500
TZOFFSETTO:-0400
TZNAME:EDT
DTSTART:20200308T070000
END:DAYLIGHT
BEGIN:STANDARD
TZOFFSETFROM:-0400
TZOFFSETTO:-0500
TZNAME:EST
DTSTART:20201101T060000
END:STANDARD
BEGIN:DAYLIGHT
TZOFFSETFROM:-0500
TZOFFSETTO:-0400
TZNAME:EDT
DTSTART:20210314T070000
END:DAYLIGHT
BEGIN:STANDARD
TZOFFSETFROM:-0400
TZOFFSETTO:-0500
TZNAME:EST
DTSTART:20211107T060000
END:STANDARD
BEGIN:DAYLIGHT
TZOFFSETFROM:-0500
TZOFFSETTO:-0400
TZNAME:EDT
DTSTART:20220313T070000
END:DAYLIGHT
BEGIN:STANDARD
TZOFFSETFROM:-0400
TZOFFSETTO:-0500
TZNAME:EST
DTSTART:20221106T060000
END:STANDARD
END:VTIMEZONE
BEGIN:VEVENT
DTSTART;VALUE=DATE:20211205
DTEND;VALUE=DATE:20211206
DTSTAMP:20260422T020657
CREATED:20211011T210838Z
LAST-MODIFIED:20211011T210838Z
UID:1909-1638662400-1638748799@protectionofthebvm.org
SUMMARY:St. Nicholas Visit following the Liturgy
DESCRIPTION:
URL:https://protectionofthebvm.org/event/st-nicholas-visit-following-the-liturgy/
END:VEVENT
BEGIN:VEVENT
DTSTART;TZID=America/New_York:20211225T110000
DTEND;TZID=America/New_York:20211225T130000
DTSTAMP:20260422T020657
CREATED:20211115T213948Z
LAST-MODIFIED:20220906T195141Z
UID:1920-1640430000-1640437200@protectionofthebvm.org
SUMMARY:Christmas Day Liturgy
DESCRIPTION:
URL:https://protectionofthebvm.org/event/christmas-day-liturgy/
END:VEVENT
BEGIN:VEVENT
DTSTART;VALUE=DATE:20211226
DTEND;VALUE=DATE:20211227
DTSTAMP:20260422T020657
CREATED:20211115T214120Z
LAST-MODIFIED:20211115T214120Z
UID:1922-1640476800-1640563199@protectionofthebvm.org
SUMMARY:Annual Christmas Dinner
DESCRIPTION:
URL:https://protectionofthebvm.org/event/annual-christmas-dinner/
END:VEVENT
END:VCALENDAR