BEGIN:VCALENDAR
VERSION:2.0
PRODID:-//Holy Protection of the Mother of God - ECPv6.15.18//NONSGML v1.0//EN
CALSCALE:GREGORIAN
METHOD:PUBLISH
X-WR-CALNAME:Holy Protection of the Mother of God
X-ORIGINAL-URL:https://protectionofthebvm.org
X-WR-CALDESC:Events for Holy Protection of the Mother of God
REFRESH-INTERVAL;VALUE=DURATION:PT1H
X-Robots-Tag:noindex
X-PUBLISHED-TTL:PT1H
BEGIN:VTIMEZONE
TZID:America/New_York
BEGIN:DAYLIGHT
TZOFFSETFROM:-0500
TZOFFSETTO:-0400
TZNAME:EDT
DTSTART:20210314T070000
END:DAYLIGHT
BEGIN:STANDARD
TZOFFSETFROM:-0400
TZOFFSETTO:-0500
TZNAME:EST
DTSTART:20211107T060000
END:STANDARD
BEGIN:DAYLIGHT
TZOFFSETFROM:-0500
TZOFFSETTO:-0400
TZNAME:EDT
DTSTART:20220313T070000
END:DAYLIGHT
BEGIN:STANDARD
TZOFFSETFROM:-0400
TZOFFSETTO:-0500
TZNAME:EST
DTSTART:20221106T060000
END:STANDARD
BEGIN:DAYLIGHT
TZOFFSETFROM:-0500
TZOFFSETTO:-0400
TZNAME:EDT
DTSTART:20230312T070000
END:DAYLIGHT
BEGIN:STANDARD
TZOFFSETFROM:-0400
TZOFFSETTO:-0500
TZNAME:EST
DTSTART:20231105T060000
END:STANDARD
END:VTIMEZONE
BEGIN:VEVENT
DTSTART;VALUE=DATE:20220212
DTEND;VALUE=DATE:20220213
DTSTAMP:20260421T223510
CREATED:20220126T191008Z
LAST-MODIFIED:20220126T191008Z
UID:1951-1644624000-1644710399@protectionofthebvm.org
SUMMARY:Saturdays with Jesus
DESCRIPTION:10:00AM –  Adult class \n2:00PM – Children from 5 and up
URL:https://protectionofthebvm.org/event/saturdays-with-jesus-8/
END:VEVENT
BEGIN:VEVENT
DTSTART;VALUE=DATE:20220213
DTEND;VALUE=DATE:20220214
DTSTAMP:20260421T223510
CREATED:20220131T222519Z
LAST-MODIFIED:20220131T222531Z
UID:1962-1644710400-1644796799@protectionofthebvm.org
SUMMARY:Marriage Sunday
DESCRIPTION:The Eparchial celebration of Marriage will be on Sunday\, February 13.
URL:https://protectionofthebvm.org/event/marriage-sunday/
END:VEVENT
BEGIN:VEVENT
DTSTART;VALUE=DATE:20220228
DTEND;VALUE=DATE:20220301
DTSTAMP:20260421T223510
CREATED:20220126T191216Z
LAST-MODIFIED:20220126T191216Z
UID:1953-1646006400-1646092799@protectionofthebvm.org
SUMMARY:First Day of Lent
DESCRIPTION:
URL:https://protectionofthebvm.org/event/first-day-of-lent-3/
END:VEVENT
END:VCALENDAR