BEGIN:VCALENDAR
VERSION:2.0
PRODID:-//Holy Protection of the Mother of God - ECPv6.15.18//NONSGML v1.0//EN
CALSCALE:GREGORIAN
METHOD:PUBLISH
X-ORIGINAL-URL:https://protectionofthebvm.org
X-WR-CALDESC:Events for Holy Protection of the Mother of God
REFRESH-INTERVAL;VALUE=DURATION:PT1H
X-Robots-Tag:noindex
X-PUBLISHED-TTL:PT1H
BEGIN:VTIMEZONE
TZID:America/New_York
BEGIN:DAYLIGHT
TZOFFSETFROM:-0500
TZOFFSETTO:-0400
TZNAME:EDT
DTSTART:20210314T070000
END:DAYLIGHT
BEGIN:STANDARD
TZOFFSETFROM:-0400
TZOFFSETTO:-0500
TZNAME:EST
DTSTART:20211107T060000
END:STANDARD
BEGIN:DAYLIGHT
TZOFFSETFROM:-0500
TZOFFSETTO:-0400
TZNAME:EDT
DTSTART:20220313T070000
END:DAYLIGHT
BEGIN:STANDARD
TZOFFSETFROM:-0400
TZOFFSETTO:-0500
TZNAME:EST
DTSTART:20221106T060000
END:STANDARD
BEGIN:DAYLIGHT
TZOFFSETFROM:-0500
TZOFFSETTO:-0400
TZNAME:EDT
DTSTART:20230312T070000
END:DAYLIGHT
BEGIN:STANDARD
TZOFFSETFROM:-0400
TZOFFSETTO:-0500
TZNAME:EST
DTSTART:20231105T060000
END:STANDARD
END:VTIMEZONE
BEGIN:VEVENT
DTSTART;TZID=America/New_York:20220514T100000
DTEND;TZID=America/New_York:20220514T100000
DTSTAMP:20260421T170109
CREATED:20220426T173446Z
LAST-MODIFIED:20220426T173619Z
UID:2015-1652522400-1652522400@protectionofthebvm.org
SUMMARY:Saturdays with Jesus (adult class)
DESCRIPTION:
URL:https://protectionofthebvm.org/event/saturdays-with-jesus-adult-class-2/
END:VEVENT
BEGIN:VEVENT
DTSTART;TZID=America/New_York:20220521T140000
DTEND;TZID=America/New_York:20220521T160000
DTSTAMP:20260421T170109
CREATED:20220426T173602Z
LAST-MODIFIED:20220906T194939Z
UID:2017-1653141600-1653148800@protectionofthebvm.org
SUMMARY:Saturdays with Jesus (children 5 and up)
DESCRIPTION:
URL:https://protectionofthebvm.org/event/saturdays-with-jesus-children-5-and-up/
END:VEVENT
END:VCALENDAR