BEGIN:VCALENDAR
VERSION:2.0
PRODID:-//Holy Protection of the Mother of God - ECPv6.15.18//NONSGML v1.0//EN
CALSCALE:GREGORIAN
METHOD:PUBLISH
X-ORIGINAL-URL:https://protectionofthebvm.org
X-WR-CALDESC:Events for Holy Protection of the Mother of God
REFRESH-INTERVAL;VALUE=DURATION:PT1H
X-Robots-Tag:noindex
X-PUBLISHED-TTL:PT1H
BEGIN:VTIMEZONE
TZID:America/New_York
BEGIN:DAYLIGHT
TZOFFSETFROM:-0500
TZOFFSETTO:-0400
TZNAME:EDT
DTSTART:20230312T070000
END:DAYLIGHT
BEGIN:STANDARD
TZOFFSETFROM:-0400
TZOFFSETTO:-0500
TZNAME:EST
DTSTART:20231105T060000
END:STANDARD
BEGIN:DAYLIGHT
TZOFFSETFROM:-0500
TZOFFSETTO:-0400
TZNAME:EDT
DTSTART:20240310T070000
END:DAYLIGHT
BEGIN:STANDARD
TZOFFSETFROM:-0400
TZOFFSETTO:-0500
TZNAME:EST
DTSTART:20241103T060000
END:STANDARD
BEGIN:DAYLIGHT
TZOFFSETFROM:-0500
TZOFFSETTO:-0400
TZNAME:EDT
DTSTART:20250309T070000
END:DAYLIGHT
BEGIN:STANDARD
TZOFFSETFROM:-0400
TZOFFSETTO:-0500
TZNAME:EST
DTSTART:20251102T060000
END:STANDARD
END:VTIMEZONE
BEGIN:VEVENT
DTSTART;TZID=America/New_York:20240302T090000
DTEND;TZID=America/New_York:20240302T120000
DTSTAMP:20260420T023338
CREATED:20240213T212942Z
LAST-MODIFIED:20240213T212942Z
UID:2456-1709370000-1709380800@protectionofthebvm.org
SUMMARY:Ukrainian Easter Egg Class
DESCRIPTION:
URL:https://protectionofthebvm.org/event/ukrainian-easter-egg-class/
END:VEVENT
BEGIN:VEVENT
DTSTART;TZID=America/New_York:20240309T090000
DTEND;TZID=America/New_York:20240309T120000
DTSTAMP:20260420T023338
CREATED:20240213T213038Z
LAST-MODIFIED:20240213T213038Z
UID:2459-1709974800-1709985600@protectionofthebvm.org
SUMMARY:Ukrainian Easter Egg Class
DESCRIPTION:
URL:https://protectionofthebvm.org/event/ukrainian-easter-egg-class-2/
END:VEVENT
BEGIN:VEVENT
DTSTART;TZID=America/New_York:20240309T133000
DTEND;TZID=America/New_York:20240309T150000
DTSTAMP:20260420T023338
CREATED:20240213T212719Z
LAST-MODIFIED:20240213T212719Z
UID:2454-1709991000-1709996400@protectionofthebvm.org
SUMMARY:Saturdays with Jesus
DESCRIPTION:Catechism classes will be March 9th.\nAdults no class for March and Children 1:30 -? Making pysanky.
URL:https://protectionofthebvm.org/event/saturdays-with-jesus-12/
END:VEVENT
BEGIN:VEVENT
DTSTART;TZID=America/New_York:20240328T180000
DTEND;TZID=America/New_York:20240328T190000
DTSTAMP:20260420T023338
CREATED:20240326T161351Z
LAST-MODIFIED:20240326T161351Z
UID:2489-1711648800-1711652400@protectionofthebvm.org
SUMMARY:Holy Thursday Divine Liturgy
DESCRIPTION:
URL:https://protectionofthebvm.org/event/holy-thursday-divine-liturgy-2/
END:VEVENT
BEGIN:VEVENT
DTSTART;TZID=America/New_York:20240329T160000
DTEND;TZID=America/New_York:20240329T170000
DTSTAMP:20260420T023338
CREATED:20240326T161507Z
LAST-MODIFIED:20240326T161507Z
UID:2491-1711728000-1711731600@protectionofthebvm.org
SUMMARY:Good Friday Vespers
DESCRIPTION:
URL:https://protectionofthebvm.org/event/good-friday-vespers-3/
END:VEVENT
BEGIN:VEVENT
DTSTART;TZID=America/New_York:20240331T080000
DTEND;TZID=America/New_York:20240331T093000
DTSTAMP:20260420T023338
CREATED:20240326T161128Z
LAST-MODIFIED:20240326T161128Z
UID:2487-1711872000-1711877400@protectionofthebvm.org
SUMMARY:Easter Sunday - Resurrection Matins & Liturgy
DESCRIPTION:
URL:https://protectionofthebvm.org/event/easter-sunday-resurrection-matins-liturgy-2/
END:VEVENT
END:VCALENDAR