BEGIN:VCALENDAR
VERSION:2.0
PRODID:-//Holy Protection of the Mother of God - ECPv6.15.18//NONSGML v1.0//EN
CALSCALE:GREGORIAN
METHOD:PUBLISH
X-WR-CALNAME:Holy Protection of the Mother of God
X-ORIGINAL-URL:https://protectionofthebvm.org
X-WR-CALDESC:Events for Holy Protection of the Mother of God
REFRESH-INTERVAL;VALUE=DURATION:PT1H
X-Robots-Tag:noindex
X-PUBLISHED-TTL:PT1H
BEGIN:VTIMEZONE
TZID:America/New_York
BEGIN:DAYLIGHT
TZOFFSETFROM:-0500
TZOFFSETTO:-0400
TZNAME:EDT
DTSTART:20230312T070000
END:DAYLIGHT
BEGIN:STANDARD
TZOFFSETFROM:-0400
TZOFFSETTO:-0500
TZNAME:EST
DTSTART:20231105T060000
END:STANDARD
BEGIN:DAYLIGHT
TZOFFSETFROM:-0500
TZOFFSETTO:-0400
TZNAME:EDT
DTSTART:20240310T070000
END:DAYLIGHT
BEGIN:STANDARD
TZOFFSETFROM:-0400
TZOFFSETTO:-0500
TZNAME:EST
DTSTART:20241103T060000
END:STANDARD
BEGIN:DAYLIGHT
TZOFFSETFROM:-0500
TZOFFSETTO:-0400
TZNAME:EDT
DTSTART:20250309T070000
END:DAYLIGHT
BEGIN:STANDARD
TZOFFSETFROM:-0400
TZOFFSETTO:-0500
TZNAME:EST
DTSTART:20251102T060000
END:STANDARD
END:VTIMEZONE
BEGIN:VEVENT
DTSTART;VALUE=DATE:20241109
DTEND;VALUE=DATE:20241110
DTSTAMP:20260419T113112
CREATED:20241030T191723Z
LAST-MODIFIED:20241030T191723Z
UID:2639-1731110400-1731196799@protectionofthebvm.org
SUMMARY:Saturdays with Jesus
DESCRIPTION:Adults class from 10 to 12 and Children 1:30 to 3:00PM. \nSaturdays with Jesus is a catechism program for adults and children.  The classes are based on questions the people have about the Church and faith.
URL:https://protectionofthebvm.org/event/saturdays-with-jesus-15/
END:VEVENT
BEGIN:VEVENT
DTSTART;TZID=America/New_York:20241120T180000
DTEND;TZID=America/New_York:20241120T190000
DTSTAMP:20260419T113112
CREATED:20241119T165526Z
LAST-MODIFIED:20241119T165526Z
UID:2652-1732125600-1732129200@protectionofthebvm.org
SUMMARY:Great Vespers
DESCRIPTION:Great Vespers will be prayed for the Feast of the Entrance of the Mother of God in the Temple – November 20 at 6:00PM in Revloc
URL:https://protectionofthebvm.org/event/great-vespers/
LOCATION:Holy Protection of the Mother of God\, Revloc PA
END:VEVENT
END:VCALENDAR