BEGIN:VCALENDAR
VERSION:2.0
PRODID:-//Holy Protection of the Mother of God - ECPv6.15.18//NONSGML v1.0//EN
CALSCALE:GREGORIAN
METHOD:PUBLISH
X-ORIGINAL-URL:https://protectionofthebvm.org
X-WR-CALDESC:Events for Holy Protection of the Mother of God
REFRESH-INTERVAL;VALUE=DURATION:PT1H
X-Robots-Tag:noindex
X-PUBLISHED-TTL:PT1H
BEGIN:VTIMEZONE
TZID:America/New_York
BEGIN:DAYLIGHT
TZOFFSETFROM:-0500
TZOFFSETTO:-0400
TZNAME:EDT
DTSTART:20230312T070000
END:DAYLIGHT
BEGIN:STANDARD
TZOFFSETFROM:-0400
TZOFFSETTO:-0500
TZNAME:EST
DTSTART:20231105T060000
END:STANDARD
BEGIN:DAYLIGHT
TZOFFSETFROM:-0500
TZOFFSETTO:-0400
TZNAME:EDT
DTSTART:20240310T070000
END:DAYLIGHT
BEGIN:STANDARD
TZOFFSETFROM:-0400
TZOFFSETTO:-0500
TZNAME:EST
DTSTART:20241103T060000
END:STANDARD
BEGIN:DAYLIGHT
TZOFFSETFROM:-0500
TZOFFSETTO:-0400
TZNAME:EDT
DTSTART:20250309T070000
END:DAYLIGHT
BEGIN:STANDARD
TZOFFSETFROM:-0400
TZOFFSETTO:-0500
TZNAME:EST
DTSTART:20251102T060000
END:STANDARD
END:VTIMEZONE
BEGIN:VEVENT
DTSTART;TZID=America/New_York:20241201T120000
DTEND;TZID=America/New_York:20241201T140000
DTSTAMP:20260419T094108
CREATED:20240520T174523Z
LAST-MODIFIED:20240520T174523Z
UID:2537-1733054400-1733061600@protectionofthebvm.org
SUMMARY:St. Nicholas Visit
DESCRIPTION:
URL:https://protectionofthebvm.org/event/st-nicholas-visit-8/
END:VEVENT
BEGIN:VEVENT
DTSTART;VALUE=DATE:20241214
DTEND;VALUE=DATE:20241215
DTSTAMP:20260419T094108
CREATED:20241119T165719Z
LAST-MODIFIED:20241119T165719Z
UID:2655-1734134400-1734220799@protectionofthebvm.org
SUMMARY:Saturdays with Jesus
DESCRIPTION:Adults class from 10 to 12 and Children 1:30 to 3:00PM. \nSaturdays with Jesus is a catechism program for adults and children.  The classes are based on questions the people have about the Church and faith.
URL:https://protectionofthebvm.org/event/saturdays-with-jesus-16/
END:VEVENT
BEGIN:VEVENT
DTSTART;TZID=America/New_York:20241229T120000
DTEND;TZID=America/New_York:20241229T130000
DTSTAMP:20260419T094108
CREATED:20241119T165915Z
LAST-MODIFIED:20241119T165915Z
UID:2657-1735473600-1735477200@protectionofthebvm.org
SUMMARY:Christmas Dinner
DESCRIPTION:Our annual Christmas dinner will be Dec. 29.  Bring a dessert.
URL:https://protectionofthebvm.org/event/christmas-dinner-3/
END:VEVENT
END:VCALENDAR